Package: Rmmquant Version: 1.29.0 Command: rm -rf Rmmquant.buildbin-libdir && mkdir Rmmquant.buildbin-libdir && /Users/biocbuild/BBS/utils/build-universal.sh Rmmquant_1.29.0.tar.gz /Library/Frameworks/R.framework/Resources/bin/R Rmmquant.buildbin-libdir StartedAt: 2025-11-13 23:53:31 -0500 (Thu, 13 Nov 2025) EndedAt: 2025-11-13 23:53:58 -0500 (Thu, 13 Nov 2025) EllapsedTime: 26.5 seconds RetCode: 0 Status: OK PackageFile: Rmmquant_1.29.0.tgz PackageFileSize: 435.1 KiB