Package: Rmmquant Version: 1.29.0 Maintainer: Zytnicki Matthias MaintainerEmail: matthias.zytnicki at inra.fr git_url: https://git.bioconductor.org/packages/Rmmquant git_branch: devel git_last_commit: b7f3f59 git_last_commit_date: 2025-10-29 10:45:50 -0500 (Wed, 29 Oct 2025)