Package: Rmagpie Version: 1.67.0 Command: /Library/Frameworks/R.framework/Resources/bin/R CMD INSTALL Rmagpie StartedAt: 2025-11-23 15:07:19 -0500 (Sun, 23 Nov 2025) EndedAt: 2025-11-23 15:07:23 -0500 (Sun, 23 Nov 2025) EllapsedTime: 4.2 seconds RetCode: 0 Status: OK