Package: Rmagpie Version: 1.67.0 Command: /Library/Frameworks/R.framework/Resources/bin/R CMD build --keep-empty-dirs --no-resave-data Rmagpie StartedAt: 2025-11-21 17:27:11 -0500 (Fri, 21 Nov 2025) EndedAt: 2025-11-21 17:27:26 -0500 (Fri, 21 Nov 2025) EllapsedTime: 15.2 seconds RetCode: 0 Status: OK PackageFile: Rmagpie_1.67.0.tar.gz PackageFileSize: 464.9 KiB