Package: Rmagpie Version: 1.67.0 Command: rm -rf Rmagpie.buildbin-libdir && mkdir Rmagpie.buildbin-libdir && /Users/biocbuild/BBS/utils/build-universal.sh Rmagpie_1.67.0.tar.gz /Library/Frameworks/R.framework/Resources/bin/R Rmagpie.buildbin-libdir StartedAt: 2025-11-21 23:48:09 -0500 (Fri, 21 Nov 2025) EndedAt: 2025-11-21 23:48:15 -0500 (Fri, 21 Nov 2025) EllapsedTime: 6.2 seconds RetCode: 0 Status: OK PackageFile: Rmagpie_1.67.0.tgz PackageFileSize: 861.1 KiB