Package: Rigraphlib Version: 1.3.1 Command: /home/biocbuild/bbs-3.23-bioc/R/bin/R CMD check --install=check:Rigraphlib.install-out.txt --library=/home/biocbuild/bbs-3.23-bioc/R/site-library --timings Rigraphlib_1.3.1.tar.gz StartedAt: 2025-11-15 03:22:44 -0500 (Sat, 15 Nov 2025) EndedAt: 2025-11-15 03:23:04 -0500 (Sat, 15 Nov 2025) EllapsedTime: 20.0 seconds RetCode: 0 Status: WARNINGS CheckDir: Rigraphlib.Rcheck Warnings: 1