Package: Rigraphlib Version: 1.3.1 Command: /Library/Frameworks/R.framework/Resources/bin/R CMD check --install=check:Rigraphlib.install-out.txt --library=/Library/Frameworks/R.framework/Resources/library --no-vignettes --timings Rigraphlib_1.3.1.tar.gz StartedAt: 2025-11-13 22:09:53 -0500 (Thu, 13 Nov 2025) EndedAt: 2025-11-13 22:10:09 -0500 (Thu, 13 Nov 2025) EllapsedTime: 16.2 seconds RetCode: 0 Status: WARNINGS CheckDir: Rigraphlib.Rcheck Warnings: 1