Package: Rigraphlib Version: 1.3.1 Command: /Library/Frameworks/R.framework/Resources/bin/R CMD build --keep-empty-dirs --no-resave-data Rigraphlib StartedAt: 2025-11-13 17:30:22 -0500 (Thu, 13 Nov 2025) EndedAt: 2025-11-13 17:30:34 -0500 (Thu, 13 Nov 2025) EllapsedTime: 12.1 seconds RetCode: 0 Status: OK PackageFile: Rigraphlib_1.3.1.tar.gz PackageFileSize: 4.574 MiB