Package: Rigraphlib Version: 1.3.1 Command: rm -rf Rigraphlib.buildbin-libdir && mkdir Rigraphlib.buildbin-libdir && /Users/biocbuild/BBS/utils/build-universal.sh Rigraphlib_1.3.1.tar.gz /Library/Frameworks/R.framework/Resources/bin/R Rigraphlib.buildbin-libdir StartedAt: 2025-11-13 23:53:16 -0500 (Thu, 13 Nov 2025) EndedAt: 2025-11-13 23:55:24 -0500 (Thu, 13 Nov 2025) EllapsedTime: 127.7 seconds RetCode: 0 Status: OK PackageFile: Rigraphlib_1.3.1.tgz PackageFileSize: 12.99 MiB