Package: RiboProfiling Version: 1.41.0 Command: /home/biocbuild/bbs-3.23-bioc/R/bin/R CMD build --keep-empty-dirs --no-resave-data RiboProfiling StartedAt: 2025-11-13 19:37:19 -0500 (Thu, 13 Nov 2025) EndedAt: 2025-11-13 19:40:36 -0500 (Thu, 13 Nov 2025) EllapsedTime: 197.2 seconds RetCode: 1 Status: ERROR PackageFile: None PackageFileSize: NA