Package: RiboProfiling Version: 1.41.0 Maintainer: A. Popa MaintainerEmail: alexandra.mariela.popa at gmail.com git_url: https://git.bioconductor.org/packages/RiboProfiling git_branch: devel git_last_commit: db90a52 git_last_commit_date: 2025-10-29 10:28:21 -0500 (Wed, 29 Oct 2025)