Package: RiboCrypt Version: 1.17.0 Command: /home/biocbuild/bbs-3.23-bioc/R/bin/R CMD build --keep-empty-dirs --no-resave-data RiboCrypt StartedAt: 2025-11-11 19:41:57 -0500 (Tue, 11 Nov 2025) EndedAt: 2025-11-11 19:43:25 -0500 (Tue, 11 Nov 2025) EllapsedTime: 88.1 seconds RetCode: 0 Status: OK PackageFile: RiboCrypt_1.17.0.tar.gz PackageFileSize: 12.24 MiB