Package: RiboCrypt Version: 1.17.0 Command: /Library/Frameworks/R.framework/Resources/bin/R CMD build --keep-empty-dirs --no-resave-data RiboCrypt StartedAt: 2025-11-14 17:26:55 -0500 (Fri, 14 Nov 2025) EndedAt: 2025-11-14 17:27:32 -0500 (Fri, 14 Nov 2025) EllapsedTime: 37.4 seconds RetCode: 0 Status: OK PackageFile: RiboCrypt_1.17.0.tar.gz PackageFileSize: 12.24 MiB