Package: RiboCrypt Version: 1.17.0 Maintainer: Michal Swirski MaintainerEmail: michal.swirski at uw.edu.pl git_url: https://git.bioconductor.org/packages/RiboCrypt git_branch: devel git_last_commit: da58451 git_last_commit_date: 2025-10-29 11:13:40 -0500 (Wed, 29 Oct 2025)