Package: Rhtslib Version: 3.7.0 Command: /home/biocbuild/bbs-3.23-bioc/R/bin/R CMD build --keep-empty-dirs --no-resave-data Rhtslib StartedAt: 2025-11-11 19:41:45 -0500 (Tue, 11 Nov 2025) EndedAt: 2025-11-11 19:43:15 -0500 (Tue, 11 Nov 2025) EllapsedTime: 90.1 seconds RetCode: 0 Status: OK PackageFile: Rhtslib_3.7.0.tar.gz PackageFileSize: 4.91 MiB