Package: Rhtslib Version: 3.7.0 Command: /Library/Frameworks/R.framework/Resources/bin/R CMD INSTALL Rhtslib StartedAt: 2025-11-13 15:01:59 -0500 (Thu, 13 Nov 2025) EndedAt: 2025-11-13 15:02:11 -0500 (Thu, 13 Nov 2025) EllapsedTime: 12.3 seconds RetCode: 0 Status: OK