Package: Rhtslib Version: 3.7.0 Command: /Library/Frameworks/R.framework/Resources/bin/R CMD check --install=check:Rhtslib.install-out.txt --library=/Library/Frameworks/R.framework/Resources/library --no-vignettes --timings Rhtslib_3.7.0.tar.gz StartedAt: 2025-11-16 22:04:21 -0500 (Sun, 16 Nov 2025) EndedAt: 2025-11-16 22:04:35 -0500 (Sun, 16 Nov 2025) EllapsedTime: 14.2 seconds RetCode: 0 Status: OK CheckDir: Rhtslib.Rcheck Warnings: 0