Package: Rhtslib Version: 3.7.0 Command: /Library/Frameworks/R.framework/Resources/bin/R CMD build --keep-empty-dirs --no-resave-data Rhtslib StartedAt: 2025-11-12 17:04:26 -0500 (Wed, 12 Nov 2025) EndedAt: 2025-11-12 17:04:44 -0500 (Wed, 12 Nov 2025) EllapsedTime: 18.2 seconds RetCode: 0 Status: OK PackageFile: Rhtslib_3.7.0.tar.gz PackageFileSize: 4.91 MiB