Package: Rhisat2 Version: 1.27.0 Command: /Library/Frameworks/R.framework/Resources/bin/R CMD INSTALL Rhisat2 StartedAt: 2025-11-14 15:23:25 -0500 (Fri, 14 Nov 2025) EndedAt: 2025-11-14 15:24:12 -0500 (Fri, 14 Nov 2025) EllapsedTime: 47.6 seconds RetCode: 0 Status: OK