Package: Rhisat2 Version: 1.27.0 Command: rm -rf Rhisat2.buildbin-libdir && mkdir Rhisat2.buildbin-libdir && /Users/biocbuild/BBS/utils/build-universal.sh Rhisat2_1.27.0.tar.gz /Library/Frameworks/R.framework/Resources/bin/R Rhisat2.buildbin-libdir StartedAt: 2025-11-14 23:48:07 -0500 (Fri, 14 Nov 2025) EndedAt: 2025-11-14 23:49:07 -0500 (Fri, 14 Nov 2025) EllapsedTime: 59.1 seconds RetCode: 0 Status: OK PackageFile: Rhisat2_1.27.0.tgz PackageFileSize: 1.091 MiB