Package: Rhdf5lib Version: 1.33.0 Command: /home/biocbuild/bbs-3.23-bioc/R/bin/R CMD check --install=check:Rhdf5lib.install-out.txt --library=/home/biocbuild/bbs-3.23-bioc/R/site-library --timings Rhdf5lib_1.33.0.tar.gz StartedAt: 2025-11-14 03:13:22 -0500 (Fri, 14 Nov 2025) EndedAt: 2025-11-14 03:13:43 -0500 (Fri, 14 Nov 2025) EllapsedTime: 21.1 seconds RetCode: 0 Status: WARNINGS CheckDir: Rhdf5lib.Rcheck Warnings: 1