Package: Rhdf5lib Version: 1.33.0 Command: /Library/Frameworks/R.framework/Resources/bin/R CMD INSTALL Rhdf5lib StartedAt: 2025-11-13 15:01:17 -0500 (Thu, 13 Nov 2025) EndedAt: 2025-11-13 15:03:00 -0500 (Thu, 13 Nov 2025) EllapsedTime: 103.1 seconds RetCode: 0 Status: OK