Package: Rhdf5lib Version: 1.33.0 Command: /Library/Frameworks/R.framework/Resources/bin/R CMD build --keep-empty-dirs --no-resave-data Rhdf5lib StartedAt: 2025-11-13 17:29:26 -0500 (Thu, 13 Nov 2025) EndedAt: 2025-11-13 17:31:22 -0500 (Thu, 13 Nov 2025) EllapsedTime: 115.2 seconds RetCode: 0 Status: OK PackageFile: Rhdf5lib_1.33.0.tar.gz PackageFileSize: 11.5 MiB