Package: Rgraphviz Version: 2.55.0 Command: /Library/Frameworks/R.framework/Resources/bin/R CMD INSTALL Rgraphviz StartedAt: 2025-11-12 15:22:31 -0500 (Wed, 12 Nov 2025) EndedAt: 2025-11-12 15:23:29 -0500 (Wed, 12 Nov 2025) EllapsedTime: 58.2 seconds RetCode: 0 Status: OK