Package: Rgraphviz Version: 2.55.0 Command: /Library/Frameworks/R.framework/Resources/bin/R CMD build --keep-empty-dirs --no-resave-data Rgraphviz StartedAt: 2025-11-13 17:29:05 -0500 (Thu, 13 Nov 2025) EndedAt: 2025-11-13 17:30:17 -0500 (Thu, 13 Nov 2025) EllapsedTime: 71.7 seconds RetCode: 0 Status: OK PackageFile: Rgraphviz_2.55.0.tar.gz PackageFileSize: 7.299 MiB