Package: Rgraphviz Version: 2.55.0 Command: rm -rf Rgraphviz.buildbin-libdir && mkdir Rgraphviz.buildbin-libdir && /Users/biocbuild/BBS/utils/build-universal.sh Rgraphviz_2.55.0.tar.gz /Library/Frameworks/R.framework/Resources/bin/R Rgraphviz.buildbin-libdir StartedAt: 2025-11-13 23:52:52 -0500 (Thu, 13 Nov 2025) EndedAt: 2025-11-13 23:54:34 -0500 (Thu, 13 Nov 2025) EllapsedTime: 102.1 seconds RetCode: 0 Status: OK PackageFile: Rgraphviz_2.55.0.tgz PackageFileSize: 1.687 MiB