Package: Rfastp Version: 1.19.1 Command: /home/biocbuild/bbs-3.23-bioc/R/bin/R CMD INSTALL Rfastp StartedAt: 2025-10-22 21:50:28 -0000 (Wed, 22 Oct 2025) EndedAt: 2025-10-22 21:50:30 -0000 (Wed, 22 Oct 2025) EllapsedTime: 2.7 seconds RetCode: 1 Status: ERROR