############################################################################## ############################################################################## ### ### Running command: ### ### /home/biocbuild/bbs-3.23-bioc/R/bin/R CMD build --keep-empty-dirs --no-resave-data Rfastp ### ############################################################################## ############################################################################## * checking for file ‘Rfastp/DESCRIPTION’ ... OK * preparing ‘Rfastp’: * checking DESCRIPTION meta-information ... OK * cleaning src * running ‘cleanup’ * installing the package (it is needed to build vignettes) ----------------------------------- ERROR: dependency ‘zlibbioc’ is not available for package ‘Rfastp’ Perhaps try a variation of: install.packages('zlibbioc') * removing ‘/tmp/RtmpwqZtxC/Rinst17a25f4f0752ce/Rfastp’ ----------------------------------- ERROR: package installation failed