Package: ResidualMatrix Version: 1.21.0 Command: /home/biocbuild/bbs-3.23-bioc/R/bin/R CMD INSTALL ResidualMatrix StartedAt: 2025-11-11 15:19:39 -0500 (Tue, 11 Nov 2025) EndedAt: 2025-11-11 15:19:57 -0500 (Tue, 11 Nov 2025) EllapsedTime: 18.5 seconds RetCode: 0 Status: OK