Package: ResidualMatrix Version: 1.21.0 Command: /Library/Frameworks/R.framework/Resources/bin/R CMD INSTALL ResidualMatrix StartedAt: 2025-11-12 15:23:40 -0500 (Wed, 12 Nov 2025) EndedAt: 2025-11-12 15:23:47 -0500 (Wed, 12 Nov 2025) EllapsedTime: 6.8 seconds RetCode: 0 Status: OK