Package: ResidualMatrix Version: 1.21.0 Command: /Library/Frameworks/R.framework/Resources/bin/R CMD build --keep-empty-dirs --no-resave-data ResidualMatrix StartedAt: 2025-11-12 17:03:33 -0500 (Wed, 12 Nov 2025) EndedAt: 2025-11-12 17:03:51 -0500 (Wed, 12 Nov 2025) EllapsedTime: 17.2 seconds RetCode: 0 Status: OK PackageFile: ResidualMatrix_1.21.0.tar.gz PackageFileSize: 335.6 KiB