Package: ResidualMatrix Version: 1.21.0 Command: rm -rf ResidualMatrix.buildbin-libdir && mkdir ResidualMatrix.buildbin-libdir && /Users/biocbuild/BBS/utils/build-universal.sh ResidualMatrix_1.21.0.tar.gz /Library/Frameworks/R.framework/Resources/bin/R ResidualMatrix.buildbin-libdir StartedAt: 2025-11-13 23:52:40 -0500 (Thu, 13 Nov 2025) EndedAt: 2025-11-13 23:52:50 -0500 (Thu, 13 Nov 2025) EllapsedTime: 9.2 seconds RetCode: 0 Status: OK PackageFile: ResidualMatrix_1.21.0.tgz PackageFileSize: 629.7 KiB