Package: ResidualMatrix Version: 1.21.0 Maintainer: Aaron Lun MaintainerEmail: infinite.monkeys.with.keyboards at gmail.com git_url: https://git.bioconductor.org/packages/ResidualMatrix git_branch: devel git_last_commit: d568a7c git_last_commit_date: 2025-10-29 11:02:07 -0500 (Wed, 29 Oct 2025)