Package: ReportingTools Version: 2.51.0 Command: /home/biocbuild/bbs-3.23-bioc/R/bin/R CMD INSTALL ReportingTools StartedAt: 2025-11-11 15:50:41 -0500 (Tue, 11 Nov 2025) EndedAt: 2025-11-11 15:51:42 -0500 (Tue, 11 Nov 2025) EllapsedTime: 60.3 seconds RetCode: 0 Status: OK