Package: ReportingTools Version: 2.51.0 Command: /Library/Frameworks/R.framework/Resources/bin/R CMD INSTALL ReportingTools StartedAt: 2025-11-12 15:42:19 -0500 (Wed, 12 Nov 2025) EndedAt: 2025-11-12 15:42:20 -0500 (Wed, 12 Nov 2025) EllapsedTime: 1.1 seconds RetCode: 1 Status: ERROR