############################################################################## ############################################################################## ### ### Running command: ### ### /Library/Frameworks/R.framework/Resources/bin/R CMD build --keep-empty-dirs --no-resave-data ReportingTools ### ############################################################################## ############################################################################## * checking for file ‘ReportingTools/DESCRIPTION’ ... OK * preparing ‘ReportingTools’: * checking DESCRIPTION meta-information ... OK * installing the package (it is needed to build vignettes) ----------------------------------- ERROR: dependency ‘edgeR’ is not available for package ‘ReportingTools’ Perhaps try a variation of: install.packages('edgeR') * removing ‘/private/var/folders/r0/l4fjk6cj5xj0j3brt4bplpl40000gt/T/Rtmp2FEfcA/Rinst1632b2c55a6aa/ReportingTools’ ----------------------------------- ERROR: package installation failed