Package: RepViz Version: 1.27.0 Command: /home/biocbuild/bbs-3.23-bioc/R/bin/R CMD INSTALL RepViz StartedAt: 2025-11-11 15:30:17 -0500 (Tue, 11 Nov 2025) EndedAt: 2025-11-11 15:30:33 -0500 (Tue, 11 Nov 2025) EllapsedTime: 15.5 seconds RetCode: 0 Status: OK