Package: RepViz Version: 1.27.0 Command: /home/biocbuild/bbs-3.23-bioc/R/bin/R CMD build --keep-empty-dirs --no-resave-data RepViz StartedAt: 2025-11-13 19:34:44 -0500 (Thu, 13 Nov 2025) EndedAt: 2025-11-13 19:35:12 -0500 (Thu, 13 Nov 2025) EllapsedTime: 28.0 seconds RetCode: 1 Status: ERROR PackageFile: None PackageFileSize: NA