Package: RepViz Version: 1.27.0 Command: /Library/Frameworks/R.framework/Resources/bin/R CMD INSTALL RepViz StartedAt: 2025-11-13 15:10:49 -0500 (Thu, 13 Nov 2025) EndedAt: 2025-11-13 15:10:56 -0500 (Thu, 13 Nov 2025) EllapsedTime: 6.4 seconds RetCode: 0 Status: OK