Package: RepViz Version: 1.27.0 Command: /Library/Frameworks/R.framework/Resources/bin/R CMD build --keep-empty-dirs --no-resave-data RepViz StartedAt: 2025-11-13 17:28:40 -0500 (Thu, 13 Nov 2025) EndedAt: 2025-11-13 17:28:51 -0500 (Thu, 13 Nov 2025) EllapsedTime: 11.1 seconds RetCode: 1 Status: ERROR PackageFile: None PackageFileSize: NA