Package: RepViz Version: 1.27.0 Maintainer: Thomas Faux, Asta Laiho MaintainerEmail: asta.laiho at utu.fi git_url: https://git.bioconductor.org/packages/RepViz git_branch: devel git_last_commit: ca319c2 git_last_commit_date: 2025-10-29 10:51:36 -0500 (Wed, 29 Oct 2025)