Package: RegEnrich Version: 1.21.0 Command: /home/biocbuild/bbs-3.23-bioc/R/bin/R CMD INSTALL RegEnrich StartedAt: 2025-11-26 15:44:42 -0500 (Wed, 26 Nov 2025) EndedAt: 2025-11-26 15:45:21 -0500 (Wed, 26 Nov 2025) EllapsedTime: 38.3 seconds RetCode: 0 Status: OK