Package: RegEnrich Version: 1.21.0 Command: /home/biocbuild/bbs-3.23-bioc/R/bin/R CMD build --keep-empty-dirs --no-resave-data RegEnrich StartedAt: 2025-11-26 19:33:08 -0500 (Wed, 26 Nov 2025) EndedAt: 2025-11-26 19:37:37 -0500 (Wed, 26 Nov 2025) EllapsedTime: 269.3 seconds RetCode: 0 Status: OK PackageFile: RegEnrich_1.21.0.tar.gz PackageFileSize: 1.136 MiB