Package: RegEnrich Version: 1.21.0 Command: /Library/Frameworks/R.framework/Resources/bin/R CMD INSTALL RegEnrich StartedAt: 2025-11-13 15:27:09 -0500 (Thu, 13 Nov 2025) EndedAt: 2025-11-13 15:27:24 -0500 (Thu, 13 Nov 2025) EllapsedTime: 15.4 seconds RetCode: 0 Status: OK