Package: RegEnrich Version: 1.21.0 Command: rm -rf RegEnrich.buildbin-libdir && mkdir RegEnrich.buildbin-libdir && /Users/biocbuild/BBS/utils/build-universal.sh RegEnrich_1.21.0.tar.gz /Library/Frameworks/R.framework/Resources/bin/R RegEnrich.buildbin-libdir StartedAt: 2025-11-13 23:52:29 -0500 (Thu, 13 Nov 2025) EndedAt: 2025-11-13 23:52:48 -0500 (Thu, 13 Nov 2025) EllapsedTime: 18.4 seconds RetCode: 0 Status: OK PackageFile: RegEnrich_1.21.0.tgz PackageFileSize: 1.59 MiB