Package: ReducedExperiment Version: 1.3.0 Command: /home/biocbuild/bbs-3.23-bioc/R/bin/R CMD INSTALL ReducedExperiment StartedAt: 2025-11-11 15:52:01 -0500 (Tue, 11 Nov 2025) EndedAt: 2025-11-11 15:52:40 -0500 (Tue, 11 Nov 2025) EllapsedTime: 38.5 seconds RetCode: 0 Status: OK