Package: ReducedExperiment Version: 1.3.0 Command: /home/biocbuild/bbs-3.23-bioc/R/bin/R CMD build --keep-empty-dirs --no-resave-data ReducedExperiment StartedAt: 2025-11-11 19:38:16 -0500 (Tue, 11 Nov 2025) EndedAt: 2025-11-11 19:40:52 -0500 (Tue, 11 Nov 2025) EllapsedTime: 156.2 seconds RetCode: 0 Status: OK PackageFile: ReducedExperiment_1.3.0.tar.gz PackageFileSize: 3.271 MiB