Package: ReducedExperiment Version: 1.3.0 Command: /Library/Frameworks/R.framework/Resources/bin/R CMD build --keep-empty-dirs --no-resave-data ReducedExperiment StartedAt: 2025-11-12 17:03:13 -0500 (Wed, 12 Nov 2025) EndedAt: 2025-11-12 17:04:20 -0500 (Wed, 12 Nov 2025) EllapsedTime: 66.9 seconds RetCode: 0 Status: OK PackageFile: ReducedExperiment_1.3.0.tar.gz PackageFileSize: 2.915 MiB