Package: ReducedExperiment Version: 1.3.0 Command: rm -rf ReducedExperiment.buildbin-libdir && mkdir ReducedExperiment.buildbin-libdir && /Users/biocbuild/BBS/utils/build-universal.sh ReducedExperiment_1.3.0.tar.gz /Library/Frameworks/R.framework/Resources/bin/R ReducedExperiment.buildbin-libdir StartedAt: 2025-11-12 21:07:50 -0500 (Wed, 12 Nov 2025) EndedAt: 2025-11-12 21:08:07 -0500 (Wed, 12 Nov 2025) EllapsedTime: 17.3 seconds RetCode: 0 Status: OK PackageFile: ReducedExperiment_1.3.0.tgz PackageFileSize: 3.686 MiB