Package: ReducedExperiment Version: 1.3.0 Maintainer: Jack Gisby MaintainerEmail: jackgisby at gmail.com git_url: https://git.bioconductor.org/packages/ReducedExperiment git_branch: devel git_last_commit: 8a1ee25 git_last_commit_date: 2025-10-29 11:33:37 -0500 (Wed, 29 Oct 2025)